BEGIN:VCALENDAR
VERSION:2.0
PRODID:-//Doceo - ECPv6.15.19//NONSGML v1.0//EN
CALSCALE:GREGORIAN
METHOD:PUBLISH
X-WR-CALNAME:Doceo
X-ORIGINAL-URL:https://www.doceo.no
X-WR-CALDESC:Arrangement for Doceo
REFRESH-INTERVAL;VALUE=DURATION:PT1H
X-Robots-Tag:noindex
X-PUBLISHED-TTL:PT1H
BEGIN:VTIMEZONE
TZID:Europe/Oslo
BEGIN:DAYLIGHT
TZOFFSETFROM:+0100
TZOFFSETTO:+0200
TZNAME:CEST
DTSTART:20250330T010000
END:DAYLIGHT
BEGIN:STANDARD
TZOFFSETFROM:+0200
TZOFFSETTO:+0100
TZNAME:CET
DTSTART:20251026T010000
END:STANDARD
BEGIN:DAYLIGHT
TZOFFSETFROM:+0100
TZOFFSETTO:+0200
TZNAME:CEST
DTSTART:20260329T010000
END:DAYLIGHT
BEGIN:STANDARD
TZOFFSETFROM:+0200
TZOFFSETTO:+0100
TZNAME:CET
DTSTART:20261025T010000
END:STANDARD
BEGIN:DAYLIGHT
TZOFFSETFROM:+0100
TZOFFSETTO:+0200
TZNAME:CEST
DTSTART:20270328T010000
END:DAYLIGHT
BEGIN:STANDARD
TZOFFSETFROM:+0200
TZOFFSETTO:+0100
TZNAME:CET
DTSTART:20271031T010000
END:STANDARD
END:VTIMEZONE
BEGIN:VEVENT
DTSTART;VALUE=DATE:20260512
DTEND;VALUE=DATE:20260519
DTSTAMP:20260422T153806
CREATED:20240722T083631Z
LAST-MODIFIED:20250718T095307Z
UID:9012-1778544000-1779148799@www.doceo.no
SUMMARY:17. mai
DESCRIPTION:+			\n					\n\n		\n			Digitalt17. mai – Tverrfaglig temapakke\, 1.-2. trinn \n	199\,00 kr inkl. MVA\n		\n	\n		\n\n	\n	\n\n\n\n	\n		\n			\n				\n									\n			\n			\n						\n			\n							\n			\n				\n\n	\n			\n		\n					\n			\n							\n			\n				+			\n					\n\n		\n			Digitalt17. mai – Flerfaglig arbeidshefte\, 5.-7. trinn \n	139\,00 kr inkl. MVA\n		\n	\n		\n\n	\n	\n\n\n\n	\n		\n			\n				\n									\n			\n			\n						\n			\n							\n			\n				\n\n	\n			\n		\n					\n			\n							\n			\n				+			\n					\n\n		\n			Digitalt17. mai – Tverrfaglig temapakke\, 3.-4. trinn \n	199\,00 kr inkl. MVA
URL:https://www.doceo.no/event/17-mai/
END:VEVENT
END:VCALENDAR