BEGIN:VCALENDAR
VERSION:2.0
PRODID:-//Doceo - ECPv6.15.19//NONSGML v1.0//EN
CALSCALE:GREGORIAN
METHOD:PUBLISH
X-ORIGINAL-URL:https://www.doceo.no
X-WR-CALDESC:Arrangement for Doceo
REFRESH-INTERVAL;VALUE=DURATION:PT1H
X-Robots-Tag:noindex
X-PUBLISHED-TTL:PT1H
BEGIN:VTIMEZONE
TZID:Europe/Oslo
BEGIN:DAYLIGHT
TZOFFSETFROM:+0100
TZOFFSETTO:+0200
TZNAME:CEST
DTSTART:20250330T010000
END:DAYLIGHT
BEGIN:STANDARD
TZOFFSETFROM:+0200
TZOFFSETTO:+0100
TZNAME:CET
DTSTART:20251026T010000
END:STANDARD
BEGIN:DAYLIGHT
TZOFFSETFROM:+0100
TZOFFSETTO:+0200
TZNAME:CEST
DTSTART:20260329T010000
END:DAYLIGHT
BEGIN:STANDARD
TZOFFSETFROM:+0200
TZOFFSETTO:+0100
TZNAME:CET
DTSTART:20261025T010000
END:STANDARD
BEGIN:DAYLIGHT
TZOFFSETFROM:+0100
TZOFFSETTO:+0200
TZNAME:CEST
DTSTART:20270328T010000
END:DAYLIGHT
BEGIN:STANDARD
TZOFFSETFROM:+0200
TZOFFSETTO:+0100
TZNAME:CET
DTSTART:20271031T010000
END:STANDARD
END:VTIMEZONE
BEGIN:VEVENT
DTSTART;VALUE=DATE:20260216
DTEND;VALUE=DATE:20260319
DTSTAMP:20260422T153936
CREATED:20250302T142557Z
LAST-MODIFIED:20250718T095147Z
UID:9976-1771200000-1773878399@www.doceo.no
SUMMARY:Ramadan
DESCRIPTION:+			\n					\n\n		\n			DigitaltRamadan – Tverrfaglig temapakke\, 3.-4. trinn \n	199\,00 kr inkl. MVA\n		\n	\n		\n\n	\n	\n\n\n\n	\n		\n			\n				\n									\n			\n			\n						\n			\n							\n			\n				\n\n	\n			\n		\n					\n			\n							\n			\n				+			\n					\n\n		\n			DigitaltRamadan – Tverrfaglig temapakke\, 5.-7. trinn \n	199\,00 kr inkl. MVA\n		\n	\n		\n\n	\n	\n\n\n\n	\n		\n			\n				\n									\n			\n			\n						\n			\n							\n			\n				\n\n	\n			\n		\n					\n			\n							\n			\n				+			\n					\n\n		\n			DigitaltRamadan – Tverrfaglig temapakke\, 1.-2. trinn \n	199\,00 kr inkl. MVA
URL:https://www.doceo.no/event/ramadan/
END:VEVENT
BEGIN:VEVENT
DTSTART;VALUE=DATE:20260308
DTEND;VALUE=DATE:20260309
DTSTAMP:20260422T153937
CREATED:20240722T173904Z
LAST-MODIFIED:20250718T095159Z
UID:9024-1772928000-1773014399@www.doceo.no
SUMMARY:Kvinnedagen
DESCRIPTION:+			\n					\n\n		\n			DigitaltKvinnedagen – Flerfaglig arbeidshefte\, 3.-4. trinn \n	119\,00 kr inkl. MVA\n		\n	\n		\n\n	\n	\n\n\n\n	\n		\n			\n				\n									\n			\n			\n						\n			\n							\n			\n				\n\n	\n			\n		\n					\n			\n							\n			\n				+			\n					\n\n		\n			DigitaltKvinnedagen – Flerfaglig arbeidshefte\, 5.-7. trinn \n	119\,00 kr inkl. MVA
URL:https://www.doceo.no/event/kvinnedagen/
END:VEVENT
END:VCALENDAR