BEGIN:VCALENDAR
VERSION:2.0
PRODID:-//Doceo - ECPv6.15.19//NONSGML v1.0//EN
CALSCALE:GREGORIAN
METHOD:PUBLISH
X-WR-CALNAME:Doceo
X-ORIGINAL-URL:https://www.doceo.no
X-WR-CALDESC:Arrangement for Doceo
REFRESH-INTERVAL;VALUE=DURATION:PT1H
X-Robots-Tag:noindex
X-PUBLISHED-TTL:PT1H
BEGIN:VTIMEZONE
TZID:Europe/Oslo
BEGIN:DAYLIGHT
TZOFFSETFROM:+0100
TZOFFSETTO:+0200
TZNAME:CEST
DTSTART:20240331T010000
END:DAYLIGHT
BEGIN:STANDARD
TZOFFSETFROM:+0200
TZOFFSETTO:+0100
TZNAME:CET
DTSTART:20241027T010000
END:STANDARD
BEGIN:DAYLIGHT
TZOFFSETFROM:+0100
TZOFFSETTO:+0200
TZNAME:CEST
DTSTART:20250330T010000
END:DAYLIGHT
BEGIN:STANDARD
TZOFFSETFROM:+0200
TZOFFSETTO:+0100
TZNAME:CET
DTSTART:20251026T010000
END:STANDARD
BEGIN:DAYLIGHT
TZOFFSETFROM:+0100
TZOFFSETTO:+0200
TZNAME:CEST
DTSTART:20260329T010000
END:DAYLIGHT
BEGIN:STANDARD
TZOFFSETFROM:+0200
TZOFFSETTO:+0100
TZNAME:CET
DTSTART:20261025T010000
END:STANDARD
END:VTIMEZONE
BEGIN:VEVENT
DTSTART;VALUE=DATE:20250901
DTEND;VALUE=DATE:20251016
DTSTAMP:20260423T002629
CREATED:20240722T174827Z
LAST-MODIFIED:20250718T095457Z
UID:9032-1756684800-1760572799@www.doceo.no
SUMMARY:Høsting
DESCRIPTION:+			\n					\n\n		\n			DigitaltDyrke og høste – Tverrfaglig temapakke\, 1.-2. trinn \n	199\,00 kr inkl. MVA\n		\n	\n		\n\n	\n	\n\n\n\n	\n		\n			\n				\n									\n			\n			\n						\n			\n							\n			\n				\n\n	\n			\n		\n					\n			\n							\n			\n				+			\n					\n\n		\n			DigitaltDyrke og høste – Tverrfaglig temapakke\, 3.-4. trinn \n	199\,00 kr inkl. MVA
URL:https://www.doceo.no/event/hosting/
END:VEVENT
BEGIN:VEVENT
DTSTART;VALUE=DATE:20251031
DTEND;VALUE=DATE:20251101
DTSTAMP:20260423T002629
CREATED:20240718T105510Z
LAST-MODIFIED:20250718T095506Z
UID:8979-1761868800-1761955199@www.doceo.no
SUMMARY:Halloween
DESCRIPTION:+			\n					\n\n		\n			DigitaltHalloween – Fargelegging\, 1.-7. trinn \n	29\,00 kr inkl. MVA\n		\n	\n		\n\n	\n	\n\n\n\n	\n		\n			\n				\n									\n			\n			\n						\n			\n							\n			\n				\n\n	\n			\n		\n					\n			\n							\n			\n				+			\n					\n\n		\n			DigitaltHalloween – Flerfaglig arbeidshefte\, 5.-7. trinn \n	139\,00 kr inkl. MVA\n		\n	\n		\n\n	\n	\n\n\n\n	\n		\n			\n				\n									\n			\n			\n						\n			\n							\n			\n				\n\n	\n			\n		\n					\n			\n							\n			\n				+			\n					\n\n		\n			DigitaltHalloween – Tverrfaglig temapakke\, 3.-4. trinn \n	199\,00 kr inkl. MVA\n		\n	\n		\n\n	\n	\n\n\n\n	\n		\n			\n				\n									\n			\n			\n						\n			\n							\n			\n				\n\n	\n			\n		\n					\n			\n							\n			\n				+			\n					\n\n		\n			DigitaltHalloween – Tverrfaglig temapakke\, 1.-2. trinn \n	199\,00 kr inkl. MVA
URL:https://www.doceo.no/event/halloween/
END:VEVENT
END:VCALENDAR